BEGIN:VCALENDAR
VERSION:2.0
METHOD:PUBLISH
X-WR-CALNAME: Calendar | Environmental Law Institute
PRODID:-//Drupal iCal API//EN
BEGIN:VEVENT
UID:calendar.309740.changed.0.0
SUMMARY:86 FR 43102
DTSTAMP:20210806T135539Z
DTSTART:20210806Z
DTEND:20210807Z
08/06/2021 - 08:10
URL;VALUE=URI:https://elr.info/fed-update/86-fr-43102
END:VEVENT
BEGIN:VEVENT
UID:calendar.309741.changed.0.1
SUMMARY:Energy Law Associate Attorney\, CA/CO – Kaplan Kirsch & Rockwell LLP
DTSTAMP:20210806T135539Z
DTSTART:20210806Z
DTEND:20210807Z
08/06/2021 - 10:44
URL;VALUE=URI:https://www.eli.org/just-for-members/jobs/energy-law-associate-attorney-caco-kaplan-kirsch-rockwell-llp
END:VEVENT
BEGIN:VEVENT
UID:calendar.309742.changed.0.2
SUMMARY:Special Assistant Attorney General - Environmental and Energy Unit Chief\,  \n
 Providence\, RI – Rhode Island Office of Attorney General
DTSTAMP:20210806T135539Z
DTSTART:20210806Z
DTEND:20210807Z
08/06/2021 - 10:58
URL;VALUE=URI:https://www.eli.org/just-for-members/jobs/special-assistant-attorney-general-environmental-and-energy-unit-chief-providence-ri-rhode-island-office
END:VEVENT
BEGIN:VEVENT
UID:calendar.309743.changed.0.3
SUMMARY:Legal Specialist\, Remote\, AZ – Arizona Dept of Environmental Quality
DTSTAMP:20210806T135539Z
DTSTART:20210806Z
DTEND:20210807Z
08/06/2021 - 11:09
URL;VALUE=URI:https://www.eli.org/just-for-members/jobs/legal-specialist-remote-az-arizona-dept-environmental-quality
END:VEVENT
BEGIN:VEVENT
UID:calendar.309744.changed.0.4
SUMMARY:Staff Attorney 2 - PURA Adjudications\, New Britain\, CT – State of  \n
 Connecticut\, Department of Energy & Environmental Protection (DEEP)
DTSTAMP:20210806T135539Z
DTSTART:20210806Z
DTEND:20210807Z
08/06/2021 - 11:14
URL;VALUE=URI:https://www.eli.org/just-for-members/jobs/staff-attorney-2-pura-adjudications-new-britain-ct-state-connecticut-department-energy-environmental
END:VEVENT
BEGIN:VEVENT
UID:calendar.309745.changed.0.5
SUMMARY:Attorney-Adviser (General) or Law Clerk\, Washington\, DC – US DOI\, Office of  \n
 the Solicitor
DTSTAMP:20210806T135539Z
DTSTART:20210806Z
DTEND:20210807Z
08/06/2021 - 11:18
URL;VALUE=URI:https://www.eli.org/just-for-members/jobs/attorney-adviser-general-or-law-clerk-washington-dc-us-doi-office-solicitor
END:VEVENT
BEGIN:VEVENT
UID:calendar.65850.changed.0.6
SUMMARY:Annual Award Ceremony Fundraiser
DTSTAMP:20210806T135539Z
DTSTART:20210806Z
DTEND:20210807Z
08/06/2021 - 11:21
URL;VALUE=URI:https://www.eli.org/award-dinner
END:VEVENT
BEGIN:VEVENT
UID:calendar.309746.changed.0.7
SUMMARY:Environmental Law Associate\, DE/NJ/PA – Fox Rothschild LLP
DTSTAMP:20210806T135539Z
DTSTART:20210806Z
DTEND:20210807Z
08/06/2021 - 11:42
URL;VALUE=URI:https://www.eli.org/just-for-members/jobs/environmental-law-associate-denjpa-fox-rothschild-llp
END:VEVENT
BEGIN:VEVENT
UID:calendar.309747.changed.0.8
SUMMARY:Counsel II - (210005PC)\, Boston\, MA – Massachusetts Department of  \n
 Environmental Protection (MassDEP)
DTSTAMP:20210806T135539Z
DTSTART:20210806Z
DTEND:20210807Z
08/06/2021 - 12:13
URL;VALUE=URI:https://www.eli.org/just-for-members/jobs/counsel-ii-210005pc-boston-ma-massachusetts-department-environmental-protection-massdep
END:VEVENT
BEGIN:VEVENT
UID:calendar.309748.changed.0.9
SUMMARY:Counsel II - (21000638)\, Boston\, MA – Massachusetts Department of  \n
 Environmental Protection (MassDEP)
DTSTAMP:20210806T135539Z
DTSTART:20210806Z
DTEND:20210807Z
08/06/2021 - 12:15
URL;VALUE=URI:https://www.eli.org/just-for-members/jobs/counsel-ii-21000638-boston-ma-massachusetts-department-environmental-protection-massdep
END:VEVENT
BEGIN:VEVENT
UID:calendar.309749.changed.0.10
SUMMARY:Environmental Attorney\, Bloomfield Hills\, MI – Plunkett Cooney
DTSTAMP:20210806T135539Z
DTSTART:20210806Z
DTEND:20210807Z
08/06/2021 - 12:34
URL;VALUE=URI:https://www.eli.org/just-for-members/jobs/environmental-attorney-bloomfield-hills-mi-plunkett-cooney
END:VEVENT
BEGIN:VEVENT
UID:calendar.309750.changed.0.11
SUMMARY:S. 2555
DTSTAMP:20210806T135539Z
DTSTART:20210806Z
DTEND:20210807Z
08/06/2021 - 12:35
URL;VALUE=URI:https://elr.info/bills/s-2555
END:VEVENT
BEGIN:VEVENT
UID:calendar.309752.changed.0.12
SUMMARY:H.R. 4864
DTSTAMP:20210806T135539Z
DTSTART:20210806Z
DTEND:20210807Z
08/06/2021 - 12:38
URL;VALUE=URI:https://elr.info/bills/hr-4864
END:VEVENT
BEGIN:VEVENT
UID:calendar.309753.changed.0.13
SUMMARY:Product Stewardship Counsel\, Location Flexible – 3M
DTSTAMP:20210806T135539Z
DTSTART:20210806Z
DTEND:20210807Z
08/06/2021 - 12:38
URL;VALUE=URI:https://www.eli.org/just-for-members/jobs/product-stewardship-counsel-location-flexible-3m
END:VEVENT
BEGIN:VEVENT
UID:calendar.309756.changed.0.14
SUMMARY:S. 2567
DTSTAMP:20210806T135539Z
DTSTART:20210806Z
DTEND:20210807Z
08/06/2021 - 12:44
URL;VALUE=URI:https://elr.info/bills/s-2567
END:VEVENT
BEGIN:VEVENT
UID:calendar.309757.changed.0.15
SUMMARY:Assistant Counsel\, New York\, NY – NYC Dept of Environmental Protection
DTSTAMP:20210806T135539Z
DTSTART:20210806Z
DTEND:20210807Z
08/06/2021 - 12:46
URL;VALUE=URI:https://www.eli.org/just-for-members/jobs/assistant-counsel-new-york-ny-nyc-dept-environmental-protection
END:VEVENT
BEGIN:VEVENT
UID:calendar.309760.changed.0.16
SUMMARY:H.R. 4805
DTSTAMP:20210806T135539Z
DTSTART:20210806Z
DTEND:20210807Z
08/06/2021 - 12:49
URL;VALUE=URI:https://elr.info/bills/hr-4805
END:VEVENT
BEGIN:VEVENT
UID:calendar.309763.changed.0.17
SUMMARY:H.R. 4915
DTSTAMP:20210806T135539Z
DTSTART:20210806Z
DTEND:20210807Z
08/06/2021 - 12:54
URL;VALUE=URI:https://elr.info/bills/hr-4915
END:VEVENT
END:VCALENDAR
